BEGIN:VCALENDAR
VERSION:2.0
CALSCALE:GREGORIAN
PRODID:-//Diputació de Barcelona//DibaCMS//EN
BEGIN:VEVENT
UID:1482
DTSTAMP:20260425T213814
DTSTART:20200306T200000
DTEND:20200306T213000
SUMMARY:Celebració del Dia de les Dones
LOCATION:C/ Ponent. Centre Cívic 08798 Sant Cugat Sesgarrigues
METHOD:PUBLISH
X-WR-CALNAME:st.cugats@santcugatsesgarrigues.cat
X-WR-TIMEZONE:Europe/Madrid
DESCRIPTION:En el marc de la celebració del Dia de les Dones, es faran diferents activitats a Sant Cugat Sesgarrigues.

URI:https://www.santcugatsesgarrigues.cat/actualitat/agenda/celebracio-del-dia-de-les-dones.html
CLASS:PUBLIC
END:VEVENT
END:VCALENDAR
