BEGIN:VCALENDAR
VERSION:2.0
CALSCALE:GREGORIAN
PRODID:-//Diputació de Barcelona//DibaCMS//EN
BEGIN:VEVENT
UID:1483
DTSTAMP:20260425T185340
DTSTART:20200307T170000
DTEND:20200307T235500
SUMMARY:Celebració del Dia de les Dones
LOCATION:C/ Ponent 08798 Sant Cugat Sesgarrigues
METHOD:PUBLISH
X-WR-CALNAME:st.cugats@santcugatsesgarrigues.cat
X-WR-TIMEZONE:Europe/Madrid
DESCRIPTION:En el marc del Dia de les Dones s'han organitzat diferents activitats a Sant Cugat Sesgarrigues

URI:https://www.santcugatsesgarrigues.cat/actualitat/agenda/1483-celebracio-del-dia-de-les-dones.html
CLASS:PUBLIC
END:VEVENT
END:VCALENDAR
