BEGIN:VCALENDAR
VERSION:2.0
CALSCALE:GREGORIAN
PRODID:-//Diputació de Barcelona//DibaCMS//EN
BEGIN:VEVENT
UID:1495
DTSTAMP:20260425T213650
DTSTART:20200612T160000
DTEND:20200612T190000
SUMMARY:Bibliobús
LOCATION:Plaça del Sindicat 
METHOD:PUBLISH
X-WR-CALNAME:st.cugats@santcugatsesgarrigues.cat
X-WR-TIMEZONE:Europe/Madrid
DESCRIPTION:Servei de Bibliobús a la Plaça del Sindicat

URI:https://www.santcugatsesgarrigues.cat/actualitat/agenda/1495-bibliobus.html
CLASS:PUBLIC
END:VEVENT
END:VCALENDAR
