BEGIN:VCALENDAR
VERSION:2.0
CALSCALE:GREGORIAN
PRODID:-//Diputació de Barcelona//DibaCMS//EN
BEGIN:VEVENT
UID:1503
DTSTAMP:20260425T233239
DTSTART:20200917T200000
DTEND:20200917T220000
SUMMARY:Trobada de barri - Serra Vella SUSPESA
LOCATION:C/ Ponent 08798 Sant Cugat Sesgarrigues
METHOD:PUBLISH
X-WR-CALNAME:st.cugats@santcugatsesgarrigues.cat
X-WR-TIMEZONE:Europe/Madrid
DESCRIPTION:Una bona manera de conèixer les inquietuds dels nostres veïns i veïnes és poder-les comentar de manera distesa, propiciant espais de debat i que tinguin una continuïtat en el temps

URI:https://www.santcugatsesgarrigues.cat/actualitat/agenda/trobada-de-barri-serra-vella-suspesa.html
CLASS:PUBLIC
END:VEVENT
END:VCALENDAR
