BEGIN:VCALENDAR
VERSION:2.0
CALSCALE:GREGORIAN
PRODID:-//Diputació de Barcelona//DibaCMS//EN
BEGIN:VEVENT
UID:1937
DTSTAMP:20260420T113815
DTSTART:20200926T100000
DTEND:20200926T113000
SUMMARY:ECO Sant Cugat
LOCATION:C/ Ponent 08798 Sant Cugat Sesgarrigues
METHOD:PUBLISH
X-WR-CALNAME:st.cugats@santcugatsesgarrigues.cat
X-WR-TIMEZONE:Europe/Madrid
DESCRIPTION:Taller Kundalini Ioga

URI:https://www.santcugatsesgarrigues.cat/actualitat/agenda/1937-eco-sant-cugat.html
CLASS:PUBLIC
END:VEVENT
END:VCALENDAR
