BEGIN:VCALENDAR
VERSION:2.0
CALSCALE:GREGORIAN
PRODID:-//Diputació de Barcelona//DibaCMS//EN
BEGIN:VEVENT
UID:1938
DTSTAMP:20260425T234111
DTSTART:20200921T000000
DTEND:20200921T000000
SUMMARY:ECO Sant Cugat
LOCATION:C/ Ponent 08798 Sant Cugat Sesgarrigues
METHOD:PUBLISH
X-WR-CALNAME:st.cugats@santcugatsesgarrigues.cat
X-WR-TIMEZONE:Europe/Madrid
DESCRIPTION:Xerrada: Com menjar més sa i sostenible per cuidar-nos i alhora cuidar el Medi Ambient.

URI:https://www.santcugatsesgarrigues.cat/actualitat/agenda/1938-eco-sant-cugat.html
CLASS:PUBLIC
END:VEVENT
END:VCALENDAR
