BEGIN:VCALENDAR
VERSION:2.0
CALSCALE:GREGORIAN
PRODID:-//Diputació de Barcelona//DibaCMS//EN
BEGIN:VEVENT
UID:1941
DTSTAMP:20260425T215721
DTSTART:20200927T090000
DTEND:20200927T110000
SUMMARY:ECO Sant Cugat
LOCATION:
METHOD:PUBLISH
X-WR-CALNAME:st.cugats@santcugatsesgarrigues.cat
X-WR-TIMEZONE:Europe/Madrid
DESCRIPTION:Plogging pels entorns del municipi.

URI:https://www.santcugatsesgarrigues.cat/actualitat/agenda/1941-eco-sant-cugat.html
CLASS:PUBLIC
END:VEVENT
END:VCALENDAR
