BEGIN:VCALENDAR
VERSION:2.0
CALSCALE:GREGORIAN
PRODID:-//Diputació de Barcelona//DibaCMS//EN
BEGIN:VEVENT
UID:1972
DTSTAMP:20260425T220106
DTSTART:20201017T200000
DTEND:20201017T203000
SUMMARY:Festa del Most - AeriMost
LOCATION:
METHOD:PUBLISH
X-WR-CALNAME:st.cugats@santcugatsesgarrigues.cat
X-WR-TIMEZONE:Europe/Madrid
DESCRIPTION:Els diables Sexes Foc ens han preparat l’AeriMost, així que estiguem ben atents al cel de Sant Cugat.

URI:https://www.santcugatsesgarrigues.cat/actualitat/agenda/festa-del-most-aerimost.html
CLASS:PUBLIC
END:VEVENT
END:VCALENDAR
