BEGIN:VCALENDAR
VERSION:2.0
CALSCALE:GREGORIAN
PRODID:-//Diputació de Barcelona//DibaCMS//EN
BEGIN:VEVENT
UID:2032
DTSTAMP:20260426T003937
DTSTART:20201125T190000
DTEND:20201125T203000
SUMMARY:Taller: Còmics contra el masclisme
LOCATION:
METHOD:PUBLISH
X-WR-CALNAME:st.cugats@santcugatsesgarrigues.cat
X-WR-TIMEZONE:Europe/Madrid
DESCRIPTION:En el marc del Dia Internacional per a l'eliminació de la violència envers les dones, es farà aquest taller en format on-line, obert a tota la població.

URI:https://www.santcugatsesgarrigues.cat/actualitat/agenda/taller-comics-contra-el-masclisme.html
CLASS:PUBLIC
END:VEVENT
END:VCALENDAR
