BEGIN:VCALENDAR
VERSION:2.0
CALSCALE:GREGORIAN
PRODID:-//Diputació de Barcelona//DibaCMS//EN
BEGIN:VEVENT
UID:2051
DTSTAMP:20260425T231115
DTSTART:20201209T210000
DTEND:20201209T220000
SUMMARY:Xerrada online: Esmorzars i berenars saludables
LOCATION:
METHOD:PUBLISH
X-WR-CALNAME:st.cugats@santcugatsesgarrigues.cat
X-WR-TIMEZONE:Europe/Madrid
DESCRIPTION:Xerrada a càrrec d’Ester Milà.

Cal inscripció prèvia al correu scs.dinamitzacio@santcugatsesgarrigues.cat. El dia de la xerrada us passarem l’enllaç per accedir a la sessió.

URI:https://www.santcugatsesgarrigues.cat/actualitat/agenda/xerrada-online-esmorzars-i-berenars-saludables.html
CLASS:PUBLIC
END:VEVENT
END:VCALENDAR
