BEGIN:VCALENDAR
VERSION:2.0
CALSCALE:GREGORIAN
PRODID:-//Diputació de Barcelona//DibaCMS//EN
BEGIN:VEVENT
UID:2086
DTSTAMP:20260426T025219
DTSTART:20210105T170000
DTEND:20210105T200000
SUMMARY:Cavalcada de Reis
LOCATION:
METHOD:PUBLISH
X-WR-CALNAME:st.cugats@santcugatsesgarrigues.cat
X-WR-TIMEZONE:Europe/Madrid
DESCRIPTION:Ses Majestats els Reis d'Orient passaran per tots els carrers del municipi, espereu-los a la finestra o portal de casa vostra.

URI:https://www.santcugatsesgarrigues.cat/actualitat/agenda/cavalcada-de-reis.html
CLASS:PUBLIC
END:VEVENT
END:VCALENDAR
