BEGIN:VCALENDAR
VERSION:2.0
CALSCALE:GREGORIAN
PRODID:-//Diputació de Barcelona//DibaCMS//EN
BEGIN:VEVENT
UID:2439
DTSTAMP:20260420T151706
DTSTART:20211015T210000
DTEND:20211015T233000
SUMMARY:Festa del Most: Sopar de brasa 
LOCATION:Plaça del Sindicat 
METHOD:PUBLISH
X-WR-CALNAME:st.cugats@santcugatsesgarrigues.cat
X-WR-TIMEZONE:Europe/Madrid
DESCRIPTION:
URI:https://www.santcugatsesgarrigues.cat/actualitat/agenda/festa-del-most-sopar-de-brasa-.html
CLASS:PUBLIC
END:VEVENT
END:VCALENDAR
