BEGIN:VCALENDAR
VERSION:2.0
CALSCALE:GREGORIAN
PRODID:-//Diputació de Barcelona//DibaCMS//EN
BEGIN:VEVENT
UID:2447
DTSTAMP:20260420T145131
DTSTART:20211017T170000
DTEND:20211017T210000
SUMMARY:Festa del Most: "S'ha acabat el bròquil"
LOCATION:Auditori del Centre Cívic 
METHOD:PUBLISH
X-WR-CALNAME:st.cugats@santcugatsesgarrigues.cat
X-WR-TIMEZONE:Europe/Madrid
DESCRIPTION:
URI:https://www.santcugatsesgarrigues.cat/actualitat/agenda/festa-del-most-sha-acabat-el-broquil.html
CLASS:PUBLIC
END:VEVENT
END:VCALENDAR
