BEGIN:VCALENDAR
VERSION:2.0
CALSCALE:GREGORIAN
PRODID:-//Diputació de Barcelona//DibaCMS//EN
BEGIN:VEVENT
UID:2475
DTSTAMP:20260426T054119
DTSTART:20220203T200000
DTEND:20220203T210000
SUMMARY:Trobada de barri - Casc antic
LOCATION:Espai de Trobada (Centre Cívic) 
METHOD:PUBLISH
X-WR-CALNAME:st.cugats@santcugatsesgarrigues.cat
X-WR-TIMEZONE:Europe/Madrid
DESCRIPTION:Una bona manera de conèixer les inquietuds dels nostres veïns i veïnes és poder-les comentar de manera distesa, propiciant espais de debat i que tinguin una continuïtat en el temps.

URI:https://www.santcugatsesgarrigues.cat/actualitat/agenda/2475-trobada-de-barri-casc-antic.html
CLASS:PUBLIC
END:VEVENT
END:VCALENDAR
