BEGIN:VCALENDAR
VERSION:2.0
CALSCALE:GREGORIAN
PRODID:-//Diputació de Barcelona//DibaCMS//EN
BEGIN:VEVENT
UID:2483
DTSTAMP:20260420T132524
DTSTART:20211125T170000
DTEND:20211125T190000
SUMMARY:Taller per a gent gran: Estratègies emocionals per a sentir-se bé
LOCATION:C/ Ponent. Centre Cívic 08798 Sant Cugat Sesgarrigues
METHOD:PUBLISH
X-WR-CALNAME:st.cugats@santcugatsesgarrigues.cat
X-WR-TIMEZONE:Europe/Madrid
DESCRIPTION:El taller es farà els dijous 11, 18 i 25 de novembre, i 2 i 9 de desembre a les 17h.

URI:https://www.santcugatsesgarrigues.cat/actualitat/agenda/2483-taller-per-a-gent-gran-estrategies-emocionals-per-a-sentir-se-be.html
CLASS:PUBLIC
END:VEVENT
END:VCALENDAR
