BEGIN:VCALENDAR
VERSION:2.0
CALSCALE:GREGORIAN
PRODID:-//Diputació de Barcelona//DibaCMS//EN
BEGIN:VEVENT
UID:2497
DTSTAMP:20260420T151501
DTSTART:20211120T160000
DTEND:20211120T180000
SUMMARY:Dia Internacional dels Drets dels Infants
LOCATION:C/ Ponent 08798 Sant Cugat Sesgarrigues
METHOD:PUBLISH
X-WR-CALNAME:st.cugats@santcugatsesgarrigues.cat
X-WR-TIMEZONE:Europe/Madrid
DESCRIPTION:El dia 20 de novembre es faran diferents activitats per commemorar el Dia Internacional dels Drets dels Infants.

URI:https://www.santcugatsesgarrigues.cat/actualitat/agenda/dia-internacional-dels-drets-dels-infants.html
CLASS:PUBLIC
END:VEVENT
END:VCALENDAR
