BEGIN:VCALENDAR
VERSION:2.0
CALSCALE:GREGORIAN
PRODID:-//Diputació de Barcelona//DibaCMS//EN
BEGIN:VEVENT
UID:2540
DTSTAMP:20260420T131219
DTSTART:20211224T170000
DTEND:20211224T190000
SUMMARY:Caga Tió
LOCATION:Cal Pau Vidal 
METHOD:PUBLISH
X-WR-CALNAME:st.cugats@santcugatsesgarrigues.cat
X-WR-TIMEZONE:Europe/Madrid
DESCRIPTION:Caga Tió.

URI:https://www.santcugatsesgarrigues.cat/actualitat/agenda/2540-caga-tio.html
CLASS:PUBLIC
END:VEVENT
END:VCALENDAR
