BEGIN:VCALENDAR
VERSION:2.0
CALSCALE:GREGORIAN
PRODID:-//Diputació de Barcelona//DibaCMS//EN
BEGIN:VEVENT
UID:2563
DTSTAMP:20260420T113933
DTSTART:20220126T190000
DTEND:20220126T210000
SUMMARY:Formació "La diversitat afectiva-sexual i de gènere i prevenció de la LGTBIfòbia a l'esport"
LOCATION:C/ Ponent 08798 Sant Cugat Sesgarrigues
METHOD:PUBLISH
X-WR-CALNAME:st.cugats@santcugatsesgarrigues.cat
X-WR-TIMEZONE:Europe/Madrid
DESCRIPTION:Formació per a membres d'entitats esportives i persones vinculades amb l'esport, enmarcada dins de la campanya "L'esport té tots els colors".

URI:https://www.santcugatsesgarrigues.cat/actualitat/agenda/formacio-la-diversitat-afectiva-sexual-i-de-genere-i-prevencio-de-la-lgtbifobia-a-lesport.html
CLASS:PUBLIC
END:VEVENT
END:VCALENDAR
