BEGIN:VCALENDAR
VERSION:2.0
CALSCALE:GREGORIAN
PRODID:-//Diputació de Barcelona//DibaCMS//EN
BEGIN:VEVENT
UID:2613
DTSTAMP:20260420T145153
DTSTART:20220320T110000
DTEND:20220320T140000
SUMMARY:Festa de l'arbre i 25è. aniversari Sant Adjutori - CANCEL·LADA
LOCATION:Zona verda entre Puigcigró i el C/ Pallisses 
METHOD:PUBLISH
X-WR-CALNAME:st.cugats@santcugatsesgarrigues.cat
X-WR-TIMEZONE:Europe/Madrid
DESCRIPTION:Festa de l'arbre i del Medi ambient i commemoració del 25è. aniversari de l'Associació d'Assistència Social Sant Adjutori.

URI:https://www.santcugatsesgarrigues.cat/actualitat/agenda/festa-de-larbre-i-25e-aniversari-sant-adjutori-cancellada.html
CLASS:PUBLIC
END:VEVENT
END:VCALENDAR
