BEGIN:VCALENDAR
VERSION:2.0
CALSCALE:GREGORIAN
PRODID:-//Diputació de Barcelona//DibaCMS//EN
BEGIN:VEVENT
UID:2653
DTSTAMP:20260426T043551
DTSTART:20220422T100000
DTEND:20220422T170000
SUMMARY:Diada de Sant Jordi: Parada de roses, llibres i punts de llibre
LOCATION:
METHOD:PUBLISH
X-WR-CALNAME:st.cugats@santcugatsesgarrigues.cat
X-WR-TIMEZONE:Europe/Madrid
DESCRIPTION:Parada de llibres, roses i punts de llibre: a càrrec de l’alumnat de sisè de l'Escola Les Vinyes. 

 

URI:https://www.santcugatsesgarrigues.cat/actualitat/agenda/diada-de-sant-jordi-parada-de-roses-llibres-i-punts-de-llibre.html
CLASS:PUBLIC
END:VEVENT
END:VCALENDAR
