BEGIN:VCALENDAR
VERSION:2.0
CALSCALE:GREGORIAN
PRODID:-//Diputació de Barcelona//DibaCMS//EN
BEGIN:VEVENT
UID:2669
DTSTAMP:20260420T101638
DTSTART:20220617T153000
DTEND:20220617T180000
SUMMARY:Bibliobús   
LOCATION:Plaça del Sindicat 
METHOD:PUBLISH
X-WR-CALNAME:st.cugats@santcugatsesgarrigues.cat
X-WR-TIMEZONE:Europe/Madrid
DESCRIPTION:Bibliobús Montau.

URI:https://www.santcugatsesgarrigues.cat/actualitat/agenda/2669-bibliobus-.html
CLASS:PUBLIC
END:VEVENT
END:VCALENDAR
