BEGIN:VCALENDAR
VERSION:2.0
CALSCALE:GREGORIAN
PRODID:-//Diputació de Barcelona//DibaCMS//EN
BEGIN:VEVENT
UID:2695
DTSTAMP:20260426T060756
DTSTART:20220528T180000
DTEND:20220528T200000
SUMMARY:Setmana de la Gent Gran: Cinema "Nosotros en la noche"
LOCATION:Auditori del Centre Cívic 
METHOD:PUBLISH
X-WR-CALNAME:st.cugats@santcugatsesgarrigues.cat
X-WR-TIMEZONE:Europe/Madrid
DESCRIPTION:
URI:https://www.santcugatsesgarrigues.cat/actualitat/agenda/setmana-de-la-gent-gran-cinema-nosotros-en-la-noche.html
CLASS:PUBLIC
END:VEVENT
END:VCALENDAR
