BEGIN:VCALENDAR
VERSION:2.0
CALSCALE:GREGORIAN
PRODID:-//Diputació de Barcelona//DibaCMS//EN
BEGIN:VEVENT
UID:2775
DTSTAMP:20260426T060621
DTSTART:20220725T183000
DTEND:20220725T200000
SUMMARY:FESTA MAJOR: TARDA ESPORTIVA
LOCATION:Zona Esportiva 
METHOD:PUBLISH
X-WR-CALNAME:st.cugats@santcugatsesgarrigues.cat
X-WR-TIMEZONE:Europe/Madrid
DESCRIPTION:Tarda esportiva 

URI:https://www.santcugatsesgarrigues.cat/actualitat/agenda/festa-major-tarda-esportiva.html
CLASS:PUBLIC
END:VEVENT
END:VCALENDAR
