BEGIN:VCALENDAR
VERSION:2.0
CALSCALE:GREGORIAN
PRODID:-//Diputació de Barcelona//DibaCMS//EN
BEGIN:VEVENT
UID:2780
DTSTAMP:20260426T060743
DTSTART:20220727T200000
DTEND:20220727T210000
SUMMARY:Festa Major: inauguració de l'exposició de Josep M. Riba
LOCATION:Cal Pau Vidal 
METHOD:PUBLISH
X-WR-CALNAME:st.cugats@santcugatsesgarrigues.cat
X-WR-TIMEZONE:Europe/Madrid
DESCRIPTION:Inauguració de l'exposició de Josep M. Riba

URI:https://www.santcugatsesgarrigues.cat/actualitat/agenda/festa-major-inauguracio-de-lexposicio-de-josep-m-riba.html
CLASS:PUBLIC
END:VEVENT
END:VCALENDAR
