BEGIN:VCALENDAR
VERSION:2.0
CALSCALE:GREGORIAN
PRODID:-//Diputació de Barcelona//DibaCMS//EN
BEGIN:VEVENT
UID:2786
DTSTAMP:20260426T060710
DTSTART:20220730T080000
DTEND:20220730T100000
SUMMARY:Festa Major: Esmorzar popular
LOCATION:Centre Cívic 
METHOD:PUBLISH
X-WR-CALNAME:st.cugats@santcugatsesgarrigues.cat
X-WR-TIMEZONE:Europe/Madrid
DESCRIPTION:Esmorzar popular

URI:https://www.santcugatsesgarrigues.cat/actualitat/agenda/festa-major-esmorzar-popular.html
CLASS:PUBLIC
END:VEVENT
END:VCALENDAR
