BEGIN:VCALENDAR
VERSION:2.0
CALSCALE:GREGORIAN
PRODID:-//Diputació de Barcelona//DibaCMS//EN
BEGIN:VEVENT
UID:3173
DTSTAMP:20260421T131751
DTSTART:20230924T110000
DTEND:20230924T120000
SUMMARY:ECO Sant Cugat: Taller higiene menstrual i sòl pelvià
LOCATION:C/ Ponent. Centre Cívic 08798 Sant Cugat Sesgarrigues
METHOD:PUBLISH
X-WR-CALNAME:st.cugats@santcugatsesgarrigues.cat
X-WR-TIMEZONE:Europe/Madrid
DESCRIPTION:
URI:https://www.santcugatsesgarrigues.cat/actualitat/agenda/eco-sant-cugat-taller-higiene-menstrual-i-sol-pelvia.html
CLASS:PUBLIC
END:VEVENT
END:VCALENDAR
