BEGIN:VCALENDAR
VERSION:2.0
CALSCALE:GREGORIAN
PRODID:-//Diputació de Barcelona//DibaCMS//EN
BEGIN:VEVENT
UID:3509
DTSTAMP:20260421T122122
DTSTART:20240911T093000
DTEND:20240911T140000
SUMMARY:Diada 11 de setembre
LOCATION:
METHOD:PUBLISH
X-WR-CALNAME:st.cugats@santcugatsesgarrigues.cat
X-WR-TIMEZONE:Europe/Madrid
DESCRIPTION:Amb motiu de la celebració de la Diada Nacional de Catalunya se celebraran diferents activitats.

URI:https://www.santcugatsesgarrigues.cat/actualitat/agenda/diada-11-de-setembre.html
CLASS:PUBLIC
END:VEVENT
END:VCALENDAR
