BEGIN:VCALENDAR
VERSION:2.0
CALSCALE:GREGORIAN
PRODID:-//Diputació de Barcelona//DibaCMS//EN
BEGIN:VEVENT
UID:3538
DTSTAMP:20260421T104615
DTSTART:20241019T110000
DTEND:20241019T140000
SUMMARY:Visita i tast al Celler VIA Celler del Xalet
LOCATION:Celler Via Celler del Xalet 
METHOD:PUBLISH
X-WR-CALNAME:st.cugats@santcugatsesgarrigues.cat
X-WR-TIMEZONE:Europe/Madrid
DESCRIPTION:
URI:https://www.santcugatsesgarrigues.cat/actualitat/agenda/visita-i-tast-al-celler-via-celler-del-xalet.html
CLASS:PUBLIC
END:VEVENT
END:VCALENDAR
