BEGIN:VCALENDAR
VERSION:2.0
CALSCALE:GREGORIAN
PRODID:-//Diputació de Barcelona//DibaCMS//EN
BEGIN:VEVENT
UID:3629
DTSTAMP:20260420T101517
DTSTART:20251017T153000
DTEND:20251017T183000
SUMMARY:Bibliobus 
LOCATION:C/ Rasa de l'Amell 
METHOD:PUBLISH
X-WR-CALNAME:st.cugats@santcugatsesgarrigues.cat
X-WR-TIMEZONE:Europe/Madrid
DESCRIPTION:
URI:https://www.santcugatsesgarrigues.cat/actualitat/agenda/3629-bibliobus-.html
CLASS:PUBLIC
END:VEVENT
END:VCALENDAR
