BEGIN:VCALENDAR
VERSION:2.0
CALSCALE:GREGORIAN
PRODID:-//Diputació de Barcelona//DibaCMS//EN
BEGIN:VEVENT
UID:3709
DTSTAMP:20260421T145918
DTSTART:20250406T110000
DTEND:20250406T123000
SUMMARY:Passejada guiada per la història de Sant Cugat Sesgarrigues
LOCATION:C/ Sant Antoni 08798 Sant Cugat Sesgarrigues
METHOD:PUBLISH
X-WR-CALNAME:st.cugats@santcugatsesgarrigues.cat
X-WR-TIMEZONE:Europe/Madrid
DESCRIPTION:Vine a descobrir la vida rural i la història de Sant Cugat Sesgarrigues.

URI:https://www.santcugatsesgarrigues.cat/actualitat/agenda/3709-passejada-guiada-per-la-historia-de-sant-cugat-sesgarrigues.html
CLASS:PUBLIC
END:VEVENT
END:VCALENDAR
