BEGIN:VCALENDAR
VERSION:2.0
CALSCALE:GREGORIAN
PRODID:-//Diputació de Barcelona//DibaCMS//EN
BEGIN:VEVENT
UID:3716
DTSTAMP:20260421T151323
DTSTART:20250316T093000
DTEND:20250316T110000
SUMMARY:Festa de l'Arbre
LOCATION:
METHOD:PUBLISH
X-WR-CALNAME:st.cugats@santcugatsesgarrigues.cat
X-WR-TIMEZONE:Europe/Madrid
DESCRIPTION:El diumenge 16 de març, Sant Cugat Sesgarrigues celebrarà una nova edició de la Festa de l’Arbre, una tradició que es manté viva des de 1909.

URI:https://www.santcugatsesgarrigues.cat/actualitat/agenda/3716-festa-de-larbre.html
CLASS:PUBLIC
END:VEVENT
END:VCALENDAR
