BEGIN:VCALENDAR
VERSION:2.0
CALSCALE:GREGORIAN
PRODID:-//Diputació de Barcelona//DibaCMS//EN
BEGIN:VEVENT
UID:3769
DTSTAMP:20260421T150928
DTSTART:20250427T180000
DTEND:20250427T200000
SUMMARY:Cloenda 34a Roda de teatre
LOCATION:Auditori del Centre Cívic 
METHOD:PUBLISH
X-WR-CALNAME:st.cugats@santcugatsesgarrigues.cat
X-WR-TIMEZONE:Europe/Madrid
DESCRIPTION:
URI:https://www.santcugatsesgarrigues.cat/actualitat/agenda/cloenda-34a-roda-de-teatre.html
CLASS:PUBLIC
END:VEVENT
END:VCALENDAR
