BEGIN:VCALENDAR
VERSION:2.0
CALSCALE:GREGORIAN
PRODID:-//Diputació de Barcelona//DibaCMS//EN
BEGIN:VEVENT
UID:4016
DTSTAMP:20260426T020814
DTSTART:20261113T153000
DTEND:20261113T183000
SUMMARY:Bibliobus 
LOCATION:C/ Rasa de l'Amell 
METHOD:PUBLISH
X-WR-CALNAME:st.cugats@santcugatsesgarrigues.cat
X-WR-TIMEZONE:Europe/Madrid
DESCRIPTION:
URI:https://www.santcugatsesgarrigues.cat/actualitat/agenda/4016-bibliobus-.html
CLASS:PUBLIC
END:VEVENT
END:VCALENDAR
