BEGIN:VCALENDAR
VERSION:2.0
CALSCALE:GREGORIAN
PRODID:-//Diputació de Barcelona//DibaCMS//EN
BEGIN:VEVENT
UID:4018
DTSTAMP:20260426T031148
DTSTART:20261211T153000
DTEND:20261211T183000
SUMMARY:Bibliobus
LOCATION:C/ Rasa de l'Amell 
METHOD:PUBLISH
X-WR-CALNAME:st.cugats@santcugatsesgarrigues.cat
X-WR-TIMEZONE:Europe/Madrid
DESCRIPTION:
URI:https://www.santcugatsesgarrigues.cat/actualitat/agenda/4018-bibliobus.html
CLASS:PUBLIC
END:VEVENT
END:VCALENDAR
