BEGIN:VCALENDAR
VERSION:2.0
CALSCALE:GREGORIAN
PRODID:-//Diputació de Barcelona//DibaCMS//EN
BEGIN:VEVENT
UID:4149
DTSTAMP:20260420T145821
DTSTART:20260423T090000
DTEND:20260425T200000
SUMMARY:Jornada de la Diada de Sant Jordi
LOCATION:
METHOD:PUBLISH
X-WR-CALNAME:st.cugats@santcugatsesgarrigues.cat
X-WR-TIMEZONE:Europe/Madrid
DESCRIPTION:Enguany la Diada de Sant Jordi, tindrà activitats organitzades pels dies 23, 24 i 25 d'abril. 

URI:https://www.santcugatsesgarrigues.cat/actualitat/agenda/jornada-de-la-diada-de-sant-jordi.html
CLASS:PUBLIC
END:VEVENT
END:VCALENDAR
